Workbook

Sheet Overview
B1: SaveEnergyTogether: Cost Benefit Analysis Tool
B29: This project has received co-funding from the European Union’s LIFE programme under grant agreement No 101120878. Neither the European Commission nor any person acting on behalf of the Commission is responsible for the use which might be made of the following information. The views expressed in this publication are the sole responsibility of the author and do not necessarily reflect the views of the European Commission.

Sheet Data Input
A1: Data Input
A3: Please fill all orange cells with regional data (or national, if no regional values are available) to correctly calculate the savings achieved by the campaign.
A5: Household data
A7: National / Regional average | B7: Single family house | D7: Apartment house
B8: unrefurbished | C8: refurbished | D8: unrefurbished | E8: refurbished
A9: Share of builings in respective category | B9: 0.39 | C9: 0.13 | D9: 0.36 | E9: 0.12
A10: Heated gross floor area [m²] | B10: 140 | C10: 140 | D10: 750 | E10: 750
A11: Space heating demand [kWh/m²a] | B11: 145 | C11: 55 | D11: 95 | E11: 45
A12: Persons per household | B12: 2.5 | C12: 2.5 | D12: 2 | E12: 2
A14: Share of main space heating fuels [%] | B14: Single family house | D14: Apartment house
B15: unrefurbished | C15: refurbished | D15: unrefurbished | E15: refurbished
A16: District heat | B16: 0.30492249 | C16: 0.30492249 | D16: 0.30492249 | E16: 0.30492249
A17: Log wood | B17: 0.090977467 | C17: 0.090977467 | D17: 0.090977467 | E17: 0.090977467
A18: Biomass pellets | B18: 0.090977467 | C18: 0.090977467 | D18: 0.090977467 | E18: 0.090977467
A19: Brown coal briquettes | B19: 0 | C19: 0 | D19: 0 | E19: 0
A20: Liquefied Petroleum Gas (LPG) | B20: 0 | C20: 0 | D20: 0 | E20: 0
A21: Fuel oil | B21: 0.12923408 | C21: 0.12923408 | D21: 0.12923408 | E21: 0.12923408
A22: Natural gas | B22: 0.2177392 | C22: 0.2177392 | D22: 0.2177392 | E22: 0.2177392
A23: Direct-electricity system | B23: 0.059762825 | C23: 0.059762825 | D23: 0.059762825 | E23: 0.059762825
A24: Central heat pump | B24: 0.10638647 | C24: 0.10638647 | D24: 0.10638647 | E24: 0.10638647
A25: Checksum | B25: =SUM(B16:B24) -> 1 | C25: =SUM(C16:C24) -> 1 | D25: =SUM(D16:D24) -> 1 | E25: =SUM(E16:E24) -> 1
A27: Energy supply data
A29: Country: | B29: - select country -
A31: Energy prices, incl. VAT
A33: Energy Carrier | B33: User values | C33: Default values | D33: Calculation value | E33: Unit
A34: District heat (energy rate) | C34: =IF($B$29="- select country -","",INDEX(Dropdowns!$B$23:$F$30,MATCH('Data Input'!$A34,Dropdowns!$A$23:$A$30,0),MATCH('Data Input'!$B$29,Dropdowns!$B$22:$F$22,0))) | D34: =IF(ISBLANK($B34),$C34,$B34) | E34: €/MWh
A35: Log wood | C35: =IF($B$29="- select country -","",INDEX(Dropdowns!$B$23:$F$30,MATCH('Data Input'!$A35,Dropdowns!$A$23:$A$30,0),MATCH('Data Input'!$B$29,Dropdowns!$B$22:$F$22,0))) | D35: =IF(ISBLANK($B35),$C35,$B35) | E35: €/m³ stacked
A36: Biomass pellets | C36: =IF($B$29="- select country -","",INDEX(Dropdowns!$B$23:$F$30,MATCH('Data Input'!$A36,Dropdowns!$A$23:$A$30,0),MATCH('Data Input'!$B$29,Dropdowns!$B$22:$F$22,0))) | D36: =IF(ISBLANK($B36),$C36,$B36) | E36: €/t
A37: Brown coal briquettes | C37: =IF($B$29="- select country -","",INDEX(Dropdowns!$B$23:$F$30,MATCH('Data Input'!$A37,Dropdowns!$A$23:$A$30,0),MATCH('Data Input'!$B$29,Dropdowns!$B$22:$F$22,0))) | D37: =IF(ISBLANK($B37),$C37,$B37) | E37: €/t
A38: Liquefied Petroleum Gas (LPG) | C38: =IF($B$29="- select country -","",INDEX(Dropdowns!$B$23:$F$30,MATCH('Data Input'!$A38,Dropdowns!$A$23:$A$30,0),MATCH('Data Input'!$B$29,Dropdowns!$B$22:$F$22,0))) | D38: =IF(ISBLANK($B38),$C38,$B38) | E38: €/100 l
A39: Fuel oil | C39: =IF($B$29="- select country -","",INDEX(Dropdowns!$B$23:$F$30,MATCH('Data Input'!$A39,Dropdowns!$A$23:$A$30,0),MATCH('Data Input'!$B$29,Dropdowns!$B$22:$F$22,0))) | D39: =IF(ISBLANK($B39),$C39,$B39) | E39: €/100 l
A40: Natural gas | C40: =IF($B$29="- select country -","",INDEX(Dropdowns!$B$23:$F$30,MATCH('Data Input'!$A40,Dropdowns!$A$23:$A$30,0),MATCH('Data Input'!$B$29,Dropdowns!$B$22:$F$22,0))) | D40: =IF(ISBLANK($B40),$C40,$B40) | E40: € Cent/kWh
A41: Electricity | C41: =IF($B$29="- select country -","",INDEX(Dropdowns!$B$23:$F$30,MATCH('Data Input'!$A41,Dropdowns!$A$23:$A$30,0),MATCH('Data Input'!$B$29,Dropdowns!$B$22:$F$22,0))) | D41: =IF(ISBLANK($B41),$C41,$B41) | E41: € Cent/kWh
A43: Primary energy carriers in the electricity and district heat generation mix
A45: Electricity generation mix
A46: Energy conversion input [%] | B46: Country data
A47: Biomass | B47: =IF($B$29="- select country -","",INDEX('Model homes'!$E$242:$E$252,MATCH($A47,'Model homes'!$C$242:$C$252,0)))
A48: Nuclear energy | B48: =IF($B$29="- select country -","",INDEX('Model homes'!$E$242:$E$252,MATCH($A48,'Model homes'!$C$242:$C$252,0)))
A49: Ambient heat | B49: =IF($B$29="- select country -","",INDEX('Model homes'!$E$242:$E$252,MATCH($A49,'Model homes'!$C$242:$C$252,0)))
A50: Hard coal | B50: =IF($B$29="- select country -","",INDEX('Model homes'!$E$242:$E$252,MATCH($A50,'Model homes'!$C$242:$C$252,0)))
...

Sheet Campaign Input
C1: Campaign Input
C3: Please select the campaign type that best represents your planned activity, enter the estimated campaign costs, and indicate the number of households you expect to reach. The number of households should reflect the expected outreach of the campaign, not necessarily the number of households that will actually implement a measure. Then select the energy saving measures addressed by the campaign by placing an “x” next to the relevant measures. Only selected measures are included in the campaign results. If a measure is not part of your campaign communication, leave the corresponding field empty. Based on your entries, the tool estimates the expected impacts of the campaign at both household and campaign level. The results provide an indication of the potential benefits of different campaign designs and help assess whether the campaign is beneficial from a wider societal perspective. The indicator “Campaign is beneficial for society” compares the estimated benefits with the costs and investments triggered by the campaign. A positive result indicates that the monetised benefits outweigh the relevant costs over the lifetime of the selected measures. The measure level results can help identify which actions are most suitable for the campaign target group and which measures offer the strongest benefits in relation to implementation effort and required household investment.
C5: Helpful resources for running campaigns can be found on the SaveEnergyTogether resource hub: www.climatealliance.org/saveenergytogether-online-hub/saveenergytogether-municipality-resources
C7: Energy savings campaign
C9: Please select the type of campaign you are going to implement and add information on the campaign costs and the number of households reached by the campaign
C11: Campaign type | G11: - select campaign type - | I11: Campaign costs | K11: €
C12: Number of households reached | I12: Country | J12: =IF('Data Input'!B29="- select country -","Please select in data input sheet",'Data Input'!B29) -> Please select in data input sheet
C14: Please select the energy savings measures addressed within the campaign by including an "x" next to the relevant measure(s):
C16: Total Savings of the campaign | I16: Campaign is beneficial for society | J16: Total investments: campaign + households [€] | K16: Net present value of social cost savings [€] | L16: Triggered Household Investments [€] | M16: Energy cost savings [€] | N16: Avoided social costs of GHG-emissions [€] | O16: Avoided social health costs of other air pollutant emissions [€] | P16: Final Energy savings [kWh] | Q16: GHG savings [t CO2e] | R16: Avoided other air pollutant emissions [t]
D17: Total savings | I17: =IF($J$12<>"Please select in data input sheet",IF(ISBLANK(G12),"",IF(K17>J17,"YES","NO")),"") | J17: =IF($J$12<>"Please select in data input sheet",J11+L17,"") | K17: =IF($J$12<>"Please select in data input sheet",M17+N17+O17,"") | L17: =IF($J$12<>"Please select in data input sheet",SUM(L21:L24,L27:L32,L35:L50),"") | M17: =IF($J$12<>"Please select in data input sheet",SUM(M21:M24,M27:M32,M35:M50),"") | N17: =IF($J$12<>"Please select in data input sheet",SUM(N21:N24,N27:N32,N35:N50),"") | O17: =IF($J$12<>"Please select in data input sheet",SUM(O21:O24,O27:O32,O35:O50),"") | P17: =IF($J$12<>"Please select in data input sheet",SUM(P21:P24,P27:P32,P35:P50),"") | Q17: =IF($J$12<>"Please select in data input sheet",SUM(Q21:Q24,Q27:Q32,Q35:Q50),"") | R17: =IF($J$12<>"Please select in data input sheet",SUM(R21:R24,R27:R32,R35:R50),"")
C19: Space Heating | I19: Average Final Energy savings [kWh/a] | J19: Payback during lifetime | K19: Average cost savings [€/a] | L19: Triggered Household Investments [€] | M19: Energy cost savings [€] | N19: Avoided social costs of GHG-emissions [€] | O19: Avoided social health costs of other air pollutant emissions [€] | P19: Final Energy savings [kWh] | Q19: GHG savings [t CO2e] | R19: Avoided other air pollutant emissions [t]
B20: TYPE | C20: SELECT | D20: ENERGY SAVING MEASURE | I20: Household level, savings per year | L20: Campaign level, savings over lifetime
B21: N | D21: Room temperature reduction (during the day / when sleeping / when absent) | I21: =IF($J$12<>"Please select in data input sheet",IF(C21="x",SPH_temp_behav!K36,""),"") | J21: =IF($J$12<>"Please select in data input sheet",IF(C21="x","-",""),"") | K21: =IF($J$12<>"Please select in data input sheet",IF(C21="x",SPH_temp_behav!L80,""),"") | L21: =IF($J$12<>"Please select in data input sheet",IF(C21="x",0,""),"") | M21: =IF($J$12<>"Please select in data input sheet",IF(C21="x",INDEX(Dropdowns!$B$2:$D$9,MATCH($G$11,Dropdowns!$A$2:$A$9,0),MATCH($B21,Dropdowns!$B$1:$D$1,0))*SPH_temp_behav!J190,""),"") | N21: =IF($J$12<>"Please select in data input sheet",IF(C21="x",INDEX(Dropdowns!$B$2:$D$9,MATCH($G$11,Dropdowns!$A$2:$A$9,0),MATCH($B21,Dropdowns!$B$1:$D$1,0))*SPH_temp_behav!J238*INDEX(Dropdowns!$C$34:$C$38,MATCH($J$12,Dropdowns!$A$34:$A$38,0)),""),"") | O21: =IF($J$12<>"Please select in data input sheet",IF(C21="x",INDEX(Dropdowns!$B$2:$D$9,MATCH($G$11,Dropdowns!$A$2:$A$9,0),MATCH($B21,Dropdowns!$B$1:$D$1,0))*SPH_temp_behav!J286*INDEX(Dropdowns!$C$34:$C$38,MATCH($J$12,Dropdowns!$A$34:$A$38,0)),""),"") | P21: =IF($J$12<>"Please select in data input sheet",IF(C21="x",INDEX(Dropdowns!$B$2:$D$9,MATCH($G$11,Dropdowns!$A$2:$A$9,0),MATCH($B21,Dropdowns!$B$1:$D$1,0))*SPH_temp_behav!J178,""),"") | Q21: =IF($J$12<>"Please select in data input sheet",IF(C21="x",INDEX(Dropdowns!$B$2:$D$9,MATCH($G$11,Dropdowns!$A$2:$A$9,0),MATCH($B21,Dropdowns!$B$1:$D$1,0))*SPH_temp_behav!J214,""),"") | R21: =IF($J$12<>"Please select in data input sheet",IF(C21="x",INDEX(Dropdowns!$B$2:$D$9,MATCH($G$11,Dropdowns!$A$2:$A$9,0),MATCH($B21,Dropdowns!$B$1:$D$1,0))*SPH_temp_behav!J262,""),"")
B22: L | D22: Sealing gaps, cracks, and drafts around windows and doors to eliminate heat leaks | I22: =IF($J$12<>"Please select in data input sheet",IF(C22="x",SPH_VL_Seal!K31,""),"") | J22: =IF($J$12<>"Please select in data input sheet",IF(C22="x","unrefurbished: "&SPH_VL_Seal!O108&", refurbished: "&SPH_VL_Seal!P108,""),"") | K22: =IF($J$12<>"Please select in data input sheet",IF(C22="x",SPH_VL_Seal!L82,""),"") | L22: =IF($J$12<>"Please select in data input sheet",IF(C22="x",INDEX(Dropdowns!$B$2:$D$9,MATCH($G$11,Dropdowns!$A$2:$A$9,0),MATCH($B22,Dropdowns!$B$1:$D$1,0))*SPH_VL_Seal!J180*INDEX(Dropdowns!$C$34:$C$38,MATCH($J$12,Dropdowns!$A$34:$A$38,0)),""),"") | M22: =IF($J$12<>"Please select in data input sheet",IF(C22="x",INDEX(Dropdowns!$B$2:$D$9,MATCH($G$11,Dropdowns!$A$2:$A$9,0),MATCH($B22,Dropdowns!$B$1:$D$1,0))*SPH_VL_Seal!J204,""),"") | N22: =IF($J$12<>"Please select in data input sheet",IF(C22="x",INDEX(Dropdowns!$B$2:$D$9,MATCH($G$11,Dropdowns!$A$2:$A$9,0),MATCH($B22,Dropdowns!$B$1:$D$1,0))*SPH_VL_Seal!J252*INDEX(Dropdowns!$C$34:$C$38,MATCH($J$12,Dropdowns!$A$34:$A$38,0)),""),"") | O22: =IF($J$12<>"Please select in data input sheet",IF(C22="x",INDEX(Dropdowns!$B$2:$D$9,MATCH($G$11,Dropdowns!$A$2:$A$9,0),MATCH($B22,Dropdowns!$B$1:$D$1,0))*SPH_VL_Seal!J300*INDEX(Dropdowns!$C$34:$C$38,MATCH($J$12,Dropdowns!$A$34:$A$38,0)),""),"") | P22: =IF($J$12<>"Please select in data input sheet",IF(C22="x",INDEX(Dropdowns!$B$2:$D$9,MATCH($G$11,Dropdowns!$A$2:$A$9,0),MATCH($B22,Dropdowns!$B$1:$D$1,0))*SPH_VL_Seal!J192,""),"") | Q22: =IF($J$12<>"Please select in data input sheet",IF(C22="x",INDEX(Dropdowns!$B$2:$D$9,MATCH($G$11,Dropdowns!$A$2:$A$9,0),MATCH($B22,Dropdowns!$B$1:$D$1,0))*SPH_VL_Seal!J228,""),"") | R22: =IF($J$12<>"Please select in data input sheet",IF(C22="x",INDEX(Dropdowns!$B$2:$D$9,MATCH($G$11,Dropdowns!$A$2:$A$9,0),MATCH($B22,Dropdowns!$B$1:$D$1,0))*SPH_VL_Seal!J276,""),"")
B23: L | D23: Insulating pipes and fittings in unheated rooms | I23: =IF($J$12<>"Please select in data input sheet",IF(C23="x",SPH_Pipe_insul!K39,""),"") | J23: =IF($J$12<>"Please select in data input sheet",IF(C23="x","unrefurbished: "&SPH_Pipe_insul!O110&", refurbished: "&SPH_Pipe_insul!P110,""),"") | K23: =IF($J$12<>"Please select in data input sheet",IF(C23="x",SPH_Pipe_insul!L84,""),"") | L23: =IF($J$12<>"Please select in data input sheet",IF(C23="x",INDEX(Dropdowns!$B$2:$D$9,MATCH($G$11,Dropdowns!$A$2:$A$9,0),MATCH($B23,Dropdowns!$B$1:$D$1,0))*SPH_Pipe_insul!J182*INDEX(Dropdowns!$C$34:$C$38,MATCH($J$12,Dropdowns!$A$34:$A$38,0)),""),"") | M23: =IF($J$12<>"Please select in data input sheet",IF(C23="x",INDEX(Dropdowns!$B$2:$D$9,MATCH($G$11,Dropdowns!$A$2:$A$9,0),MATCH($B23,Dropdowns!$B$1:$D$1,0))*SPH_Pipe_insul!J206,""),"") | N23: =IF($J$12<>"Please select in data input sheet",IF(C23="x",INDEX(Dropdowns!$B$2:$D$9,MATCH($G$11,Dropdowns!$A$2:$A$9,0),MATCH($B23,Dropdowns!$B$1:$D$1,0))*SPH_Pipe_insul!J254*INDEX(Dropdowns!$C$34:$C$38,MATCH($J$12,Dropdowns!$A$34:$A$38,0)),""),"") | O23: =IF($J$12<>"Please select in data input sheet",IF(C23="x",INDEX(Dropdowns!$B$2:$D$9,MATCH($G$11,Dropdowns!$A$2:$A$9,0),MATCH($B23,Dropdowns!$B$1:$D$1,0))*SPH_Pipe_insul!J302*INDEX(Dropdowns!$C$34:$C$38,MATCH($J$12,Dropdowns!$A$34:$A$38,0)),""),"") | P23: =IF($J$12<>"Please select in data input sheet",IF(C23="x",INDEX(Dropdowns!$B$2:$D$9,MATCH($G$11,Dropdowns!$A$2:$A$9,0),MATCH($B23,Dropdowns!$B$1:$D$1,0))*SPH_Pipe_insul!J194,""),"") | Q23: =IF($J$12<>"Please select in data input sheet",IF(C23="x",INDEX(Dropdowns!$B$2:$D$9,MATCH($G$11,Dropdowns!$A$2:$A$9,0),MATCH($B23,Dropdowns!$B$1:$D$1,0))*SPH_Pipe_insul!J230,""),"") | R23: =IF($J$12<>"Please select in data input sheet",IF(C23="x",INDEX(Dropdowns!$B$2:$D$9,MATCH($G$11,Dropdowns!$A$2:$A$9,0),MATCH($B23,Dropdowns!$B$1:$D$1,0))*SPH_Pipe_insul!J278,""),"")
B24: I | D24: Insulation of the uppermost ceiling | I24: =IF($J$12<>"Please select in data input sheet",IF(C24="x",SPH_TL_UC!K34,""),"") | J24: =IF($J$12<>"Please select in data input sheet",IF(C24="x","unrefurbished: "&SPH_TL_UC!O101&", refurbished: "&SPH_TL_UC!P101,""),"") | K24: =IF($J$12<>"Please select in data input sheet",IF(C24="x",SPH_TL_UC!L75,""),"") | L24: =IF($J$12<>"Please select in data input sheet",IF(C24="x",INDEX(Dropdowns!$B$2:$D$9,MATCH($G$11,Dropdowns!$A$2:$A$9,0),MATCH($B24,Dropdowns!$B$1:$D$1,0))*SPH_TL_UC!J173*INDEX(Dropdowns!$C$34:$C$38,MATCH($J$12,Dropdowns!$A$34:$A$38,0)),""),"") | M24: =IF($J$12<>"Please select in data input sheet",IF(C24="x",INDEX(Dropdowns!$B$2:$D$9,MATCH($G$11,Dropdowns!$A$2:$A$9,0),MATCH($B24,Dropdowns!$B$1:$D$1,0))*SPH_TL_UC!J197,""),"") | N24: =IF($J$12<>"Please select in data input sheet",IF(C24="x",INDEX(Dropdowns!$B$2:$D$9,MATCH($G$11,Dropdowns!$A$2:$A$9,0),MATCH($B24,Dropdowns!$B$1:$D$1,0))*SPH_TL_UC!J245*INDEX(Dropdowns!$C$34:$C$38,MATCH($J$12,Dropdowns!$A$34:$A$38,0)),""),"") | O24: =IF($J$12<>"Please select in data input sheet",IF(C24="x",INDEX(Dropdowns!$B$2:$D$9,MATCH($G$11,Dropdowns!$A$2:$A$9,0),MATCH($B24,Dropdowns!$B$1:$D$1,0))*SPH_TL_UC!J293*INDEX(Dropdowns!$C$34:$C$38,MATCH($J$12,Dropdowns!$A$34:$A$38,0)),""),"") | P24: =IF($J$12<>"Please select in data input sheet",IF(C24="x",INDEX(Dropdowns!$B$2:$D$9,MATCH($G$11,Dropdowns!$A$2:$A$9,0),MATCH($B24,Dropdowns!$B$1:$D$1,0))*SPH_TL_UC!J185,""),"") | Q24: =IF($J$12<>"Please select in data input sheet",IF(C24="x",INDEX(Dropdowns!$B$2:$D$9,MATCH($G$11,Dropdowns!$A$2:$A$9,0),MATCH($B24,Dropdowns!$B$1:$D$1,0))*SPH_TL_UC!J221,""),"") | R24: =IF($J$12<>"Please select in data input sheet",IF(C24="x",INDEX(Dropdowns!$B$2:$D$9,MATCH($G$11,Dropdowns!$A$2:$A$9,0),MATCH($B24,Dropdowns!$B$1:$D$1,0))*SPH_TL_UC!J269,""),"")
C25: Domestic Hot Water | I25: Average Final Energy savings [kWh/a] | J25: Payback during lifetime | K25: Average cost savings [€/a] | L25: Triggered Household Investments [€] | M25: Energy cost savings [€] | N25: Avoided social costs of GHG-emissions [€] | O25: Avoided social health costs of other air pollutant emissions [€] | P25: Final Energy savings [kWh] | Q25: GHG savings [t CO2e] | R25: Avoided other air pollutant emissions [t]
B26: TYPE | C26: SELECT | D26: ENERGY SAVING MEASURE | I26: Household level, savings per year | L26: Campaign level, savings over lifetime
B27: N | D27: Showering instead of bathing | I27: =IF($J$12<>"Please select in data input sheet",IF(C27="x",'DHW_shower vs. bath'!J29,""),"") | J27: =IF($J$12<>"Please select in data input sheet",IF(C27="x","-",""),"") | K27: =IF($J$12<>"Please select in data input sheet",IF(C27="x",'DHW_shower vs. bath'!K40,""),"") | L27: =IF($J$12<>"Please select in data input sheet",IF(C27="x",0,""),"") | M27: =IF($J$12<>"Please select in data input sheet",IF(C27="x",INDEX(Dropdowns!$B$2:$D$9,MATCH($G$11,Dropdowns!$A$2:$A$9,0),MATCH($B27,Dropdowns!$B$1:$D$1,0))*'DHW_shower vs. bath'!J124,""),"") | N27: =IF($J$12<>"Please select in data input sheet",IF(C27="x",INDEX(Dropdowns!$B$2:$D$9,MATCH($G$11,Dropdowns!$A$2:$A$9,0),MATCH($B27,Dropdowns!$B$1:$D$1,0))*'DHW_shower vs. bath'!J172*INDEX(Dropdowns!$C$34:$C$38,MATCH($J$12,Dropdowns!$A$34:$A$38,0)),""),"") | O27: =IF($J$12<>"Please select in data input sheet",IF(C27="x",INDEX(Dropdowns!$B$2:$D$9,MATCH($G$11,Dropdowns!$A$2:$A$9,0),MATCH($B27,Dropdowns!$B$1:$D$1,0))*'DHW_shower vs. bath'!J220*INDEX(Dropdowns!$C$34:$C$38,MATCH($J$12,Dropdowns!$A$34:$A$38,0)),""),"") | P27: =IF($J$12<>"Please select in data input sheet",IF(C27="x",INDEX(Dropdowns!$B$2:$D$9,MATCH($G$11,Dropdowns!$A$2:$A$9,0),MATCH($B27,Dropdowns!$B$1:$D$1,0))*'DHW_shower vs. bath'!J112,""),"") | Q27: =IF($J$12<>"Please select in data input sheet",IF(C27="x",INDEX(Dropdowns!$B$2:$D$9,MATCH($G$11,Dropdowns!$A$2:$A$9,0),MATCH($B27,Dropdowns!$B$1:$D$1,0))*'DHW_shower vs. bath'!J148,""),"") | R27: =IF($J$12<>"Please select in data input sheet",IF(C27="x",INDEX(Dropdowns!$B$2:$D$9,MATCH($G$11,Dropdowns!$A$2:$A$9,0),MATCH($B27,Dropdowns!$B$1:$D$1,0))*'DHW_shower vs. bath'!J196,""),"")
B28: N | D28: Using less water when showering - Reduction of showering time | I28: =IF($J$12<>"Please select in data input sheet",IF(C28="x",'DHW_lowered shower-time'!J29,""),"") | J28: =IF($J$12<>"Please select in data input sheet",IF(C28="x","-",""),"") | K28: =IF($J$12<>"Please select in data input sheet",IF(C28="x",'DHW_lowered shower-time'!K40,""),"") | L28: =IF($J$12<>"Please select in data input sheet",IF(C28="x",0,""),"") | M28: =IF($J$12<>"Please select in data input sheet",IF(C28="x",INDEX(Dropdowns!$B$2:$D$9,MATCH($G$11,Dropdowns!$A$2:$A$9,0),MATCH($B28,Dropdowns!$B$1:$D$1,0))*'DHW_lowered shower-time'!J124,""),"") | N28: =IF($J$12<>"Please select in data input sheet",IF(C28="x",INDEX(Dropdowns!$B$2:$D$9,MATCH($G$11,Dropdowns!$A$2:$A$9,0),MATCH($B28,Dropdowns!$B$1:$D$1,0))*'DHW_lowered shower-time'!J172*INDEX(Dropdowns!$C$34:$C$38,MATCH($J$12,Dropdowns!$A$34:$A$38,0)),""),"") | O28: =IF($J$12<>"Please select in data input sheet",IF(C28="x",INDEX(Dropdowns!$B$2:$D$9,MATCH($G$11,Dropdowns!$A$2:$A$9,0),MATCH($B28,Dropdowns!$B$1:$D$1,0))*'DHW_lowered shower-time'!J220*INDEX(Dropdowns!$C$34:$C$38,MATCH($J$12,Dropdowns!$A$34:$A$38,0)),""),"") | P28: =IF($J$12<>"Please select in data input sheet",IF(C28="x",INDEX(Dropdowns!$B$2:$D$9,MATCH($G$11,Dropdowns!$A$2:$A$9,0),MATCH($B28,Dropdowns!$B$1:$D$1,0))*'DHW_lowered shower-time'!J112,""),"") | Q28: =IF($J$12<>"Please select in data input sheet",IF(C28="x",INDEX(Dropdowns!$B$2:$D$9,MATCH($G$11,Dropdowns!$A$2:$A$9,0),MATCH($B28,Dropdowns!$B$1:$D$1,0))*'DHW_lowered shower-time'!J148,""),"") | R28: =IF($J$12<>"Please select in data input sheet",IF(C28="x",INDEX(Dropdowns!$B$2:$D$9,MATCH($G$11,Dropdowns!$A$2:$A$9,0),MATCH($B28,Dropdowns!$B$1:$D$1,0))*'DHW_lowered shower-time'!J196,""),"")
B29: N | D29: Use a dishwasher instead of washing by hand | I29: =IF($J$12<>"Please select in data input sheet",IF(C29="x",'DHW_dish_washer vs. hand'!J29,""),"") | J29: =IF($J$12<>"Please select in data input sheet",IF(C29="x","-",""),"") | K29: =IF($J$12<>"Please select in data input sheet",IF(C29="x",'DHW_dish_washer vs. hand'!K40,""),"") | L29: =IF($J$12<>"Please select in data input sheet",IF(C29="x",0,""),"") | M29: =IF($J$12<>"Please select in data input sheet",IF(C29="x",INDEX(Dropdowns!$B$2:$D$9,MATCH($G$11,Dropdowns!$A$2:$A$9,0),MATCH($B29,Dropdowns!$B$1:$D$1,0))*'DHW_dish_washer vs. hand'!J124,""),"") | N29: =IF($J$12<>"Please select in data input sheet",IF(C29="x",INDEX(Dropdowns!$B$2:$D$9,MATCH($G$11,Dropdowns!$A$2:$A$9,0),MATCH($B29,Dropdowns!$B$1:$D$1,0))*'DHW_dish_washer vs. hand'!J172*INDEX(Dropdowns!$C$34:$C$38,MATCH($J$12,Dropdowns!$A$34:$A$38,0)),""),"") | O29: =IF($J$12<>"Please select in data input sheet",IF(C29="x",INDEX(Dropdowns!$B$2:$D$9,MATCH($G$11,Dropdowns!$A$2:$A$9,0),MATCH($B29,Dropdowns!$B$1:$D$1,0))*'DHW_dish_washer vs. hand'!J220*INDEX(Dropdowns!$C$34:$C$38,MATCH($J$12,Dropdowns!$A$34:$A$38,0)),""),"") | P29: =IF($J$12<>"Please select in data input sheet",IF(C29="x",INDEX(Dropdowns!$B$2:$D$9,MATCH($G$11,Dropdowns!$A$2:$A$9,0),MATCH($B29,Dropdowns!$B$1:$D$1,0))*'DHW_dish_washer vs. hand'!J112,""),"") | Q29: =IF($J$12<>"Please select in data input sheet",IF(C29="x",INDEX(Dropdowns!$B$2:$D$9,MATCH($G$11,Dropdowns!$A$2:$A$9,0),MATCH($B29,Dropdowns!$B$1:$D$1,0))*'DHW_dish_washer vs. hand'!J148,""),"") | R29: =IF($J$12<>"Please select in data input sheet",IF(C29="x",INDEX(Dropdowns!$B$2:$D$9,MATCH($G$11,Dropdowns!$A$2:$A$9,0),MATCH($B29,Dropdowns!$B$1:$D$1,0))*'DHW_dish_washer vs. hand'!J196,""),"")
B30: N | D30: Use more cold tap water instead of hot | I30: =IF($J$12<>"Please select in data input sheet",IF(C30="x",'DHW_cold vs. warm'!J29,""),"") | J30: =IF($J$12<>"Please select in data input sheet",IF(C30="x","-",""),"") | K30: =IF($J$12<>"Please select in data input sheet",IF(C30="x",'DHW_cold vs. warm'!K40,""),"") | L30: =IF($J$12<>"Please select in data input sheet",IF(C30="x",0,""),"") | M30: =IF($J$12<>"Please select in data input sheet",IF(C30="x",INDEX(Dropdowns!$B$2:$D$9,MATCH($G$11,Dropdowns!$A$2:$A$9,0),MATCH($B30,Dropdowns!$B$1:$D$1,0))*'DHW_cold vs. warm'!J124,""),"") | N30: =IF($J$12<>"Please select in data input sheet",IF(C30="x",INDEX(Dropdowns!$B$2:$D$9,MATCH($G$11,Dropdowns!$A$2:$A$9,0),MATCH($B30,Dropdowns!$B$1:$D$1,0))*'DHW_cold vs. warm'!J172*INDEX(Dropdowns!$C$34:$C$38,MATCH($J$12,Dropdowns!$A$34:$A$38,0)),""),"") | O30: =IF($J$12<>"Please select in data input sheet",IF(C30="x",INDEX(Dropdowns!$B$2:$D$9,MATCH($G$11,Dropdowns!$A$2:$A$9,0),MATCH($B30,Dropdowns!$B$1:$D$1,0))*'DHW_cold vs. warm'!J220*INDEX(Dropdowns!$C$34:$C$38,MATCH($J$12,Dropdowns!$A$34:$A$38,0)),""),"") | P30: =IF($J$12<>"Please select in data input sheet",IF(C30="x",INDEX(Dropdowns!$B$2:$D$9,MATCH($G$11,Dropdowns!$A$2:$A$9,0),MATCH($B30,Dropdowns!$B$1:$D$1,0))*'DHW_cold vs. warm'!J112,""),"") | Q30: =IF($J$12<>"Please select in data input sheet",IF(C30="x",INDEX(Dropdowns!$B$2:$D$9,MATCH($G$11,Dropdowns!$A$2:$A$9,0),MATCH($B30,Dropdowns!$B$1:$D$1,0))*'DHW_cold vs. warm'!J148,""),"") | R30: =IF($J$12<>"Please select in data input sheet",IF(C30="x",INDEX(Dropdowns!$B$2:$D$9,MATCH($G$11,Dropdowns!$A$2:$A$9,0),MATCH($B30,Dropdowns!$B$1:$D$1,0))*'DHW_cold vs. warm'!J196,""),"")
B31: L | D31: Economy shower head (lower water flow rate) | I31: =IF($J$12<>"Please select in data input sheet",IF(C31="x",DHW_small_invest!K47,""),"") | J31: =IF($J$12<>"Please select in data input sheet",IF(C31="x","unrefurbished: "&DHW_small_invest!O84&", refurbished: "&DHW_small_invest!P84,""),"") | K31: =IF($J$12<>"Please select in data input sheet",IF(C31="x",DHW_small_invest!L58,""),"") | L31: =IF($J$12<>"Please select in data input sheet",IF(C31="x",INDEX(Dropdowns!$B$2:$D$9,MATCH($G$11,Dropdowns!$A$2:$A$9,0),MATCH($B31,Dropdowns!$B$1:$D$1,0))*DHW_small_invest!J156*INDEX(Dropdowns!$C$34:$C$38,MATCH($J$12,Dropdowns!$A$34:$A$38,0)),""),"") | M31: =IF($J$12<>"Please select in data input sheet",IF(C31="x",INDEX(Dropdowns!$B$2:$D$9,MATCH($G$11,Dropdowns!$A$2:$A$9,0),MATCH($B31,Dropdowns!$B$1:$D$1,0))*DHW_small_invest!J180,""),"") | N31: =IF($J$12<>"Please select in data input sheet",IF(C31="x",INDEX(Dropdowns!$B$2:$D$9,MATCH($G$11,Dropdowns!$A$2:$A$9,0),MATCH($B31,Dropdowns!$B$1:$D$1,0))*DHW_small_invest!J228*INDEX(Dropdowns!$C$34:$C$38,MATCH($J$12,Dropdowns!$A$34:$A$38,0)),""),"") | O31: =IF($J$12<>"Please select in data input sheet",IF(C31="x",INDEX(Dropdowns!$B$2:$D$9,MATCH($G$11,Dropdowns!$A$2:$A$9,0),MATCH($B31,Dropdowns!$B$1:$D$1,0))*DHW_small_invest!J276*INDEX(Dropdowns!$C$34:$C$38,MATCH($J$12,Dropdowns!$A$34:$A$38,0)),""),"") | P31: =IF($J$12<>"Please select in data input sheet",IF(C31="x",INDEX(Dropdowns!$B$2:$D$9,MATCH($G$11,Dropdowns!$A$2:$A$9,0),MATCH($B31,Dropdowns!$B$1:$D$1,0))*DHW_small_invest!J168,""),"") | Q31: =IF($J$12<>"Please select in data input sheet",IF(C31="x",INDEX(Dropdowns!$B$2:$D$9,MATCH($G$11,Dropdowns!$A$2:$A$9,0),MATCH($B31,Dropdowns!$B$1:$D$1,0))*DHW_small_invest!J204,""),"") | R31: =IF($J$12<>"Please select in data input sheet",IF(C31="x",INDEX(Dropdowns!$B$2:$D$9,MATCH($G$11,Dropdowns!$A$2:$A$9,0),MATCH($B31,Dropdowns!$B$1:$D$1,0))*DHW_small_invest!J252,""),"")
B32: L | D32: Insulating pipes and fittings in unheated rooms | I32: =IF($J$12<>"Please select in data input sheet",IF(C32="x",DHW_Pipe_insul!K39,""),"") | J32: =IF($J$12<>"Please select in data input sheet",IF(C32="x","unrefurbished: "&DHW_Pipe_insul!O110&", refurbished: "&DHW_Pipe_insul!P110,""),"") | K32: =IF($J$12<>"Please select in data input sheet",IF(C32="x",DHW_Pipe_insul!L84,""),"") | L32: =IF($J$12<>"Please select in data input sheet",IF(C32="x",INDEX(Dropdowns!$B$2:$D$9,MATCH($G$11,Dropdowns!$A$2:$A$9,0),MATCH($B32,Dropdowns!$B$1:$D$1,0))*DHW_Pipe_insul!J182*INDEX(Dropdowns!$C$34:$C$38,MATCH($J$12,Dropdowns!$A$34:$A$38,0)),""),"") | M32: =IF($J$12<>"Please select in data input sheet",IF(C32="x",INDEX(Dropdowns!$B$2:$D$9,MATCH($G$11,Dropdowns!$A$2:$A$9,0),MATCH($B32,Dropdowns!$B$1:$D$1,0))*DHW_Pipe_insul!J206,""),"") | N32: =IF($J$12<>"Please select in data input sheet",IF(C32="x",INDEX(Dropdowns!$B$2:$D$9,MATCH($G$11,Dropdowns!$A$2:$A$9,0),MATCH($B32,Dropdowns!$B$1:$D$1,0))*DHW_Pipe_insul!J254*INDEX(Dropdowns!$C$34:$C$38,MATCH($J$12,Dropdowns!$A$34:$A$38,0)),""),"") | O32: =IF($J$12<>"Please select in data input sheet",IF(C32="x",INDEX(Dropdowns!$B$2:$D$9,MATCH($G$11,Dropdowns!$A$2:$A$9,0),MATCH($B32,Dropdowns!$B$1:$D$1,0))*DHW_Pipe_insul!J302*INDEX(Dropdowns!$C$34:$C$38,MATCH($J$12,Dropdowns!$A$34:$A$38,0)),""),"") | P32: =IF($J$12<>"Please select in data input sheet",IF(C32="x",INDEX(Dropdowns!$B$2:$D$9,MATCH($G$11,Dropdowns!$A$2:$A$9,0),MATCH($B32,Dropdowns!$B$1:$D$1,0))*DHW_Pipe_insul!J194,""),"") | Q32: =IF($J$12<>"Please select in data input sheet",IF(C32="x",INDEX(Dropdowns!$B$2:$D$9,MATCH($G$11,Dropdowns!$A$2:$A$9,0),MATCH($B32,Dropdowns!$B$1:$D$1,0))*DHW_Pipe_insul!J230,""),"") | R32: =IF($J$12<>"Please select in data input sheet",IF(C32="x",INDEX(Dropdowns!$B$2:$D$9,MATCH($G$11,Dropdowns!$A$2:$A$9,0),MATCH($B32,Dropdowns!$B$1:$D$1,0))*DHW_Pipe_insul!J278,""),"")
C33: Electric household appliances | I33: Average Final Energy savings [kWh/a] | J33: Payback during lifetime | K33: Average cost savings [€/a] | L33: Triggered Household Investments [€] | M33: Energy cost savings [€] | N33: Avoided social costs of GHG-emissions [€] | O33: Avoided social health costs of other air pollutant emissions [€] | P33: Final Energy savings [kWh] | Q33: GHG savings [t CO2e] | R33: Avoided other air pollutant emissions [t]
B34: TYPE | C34: SELECT | D34: ENERGY SAVING MEASURE | I34: Household level, savings per year | L34: Campaign level, savings over lifetime
B35: N | D35: Switching off light when absent | I35: =IF($J$12<>"Please select in data input sheet",IF(C35="x",'eDevices_general+behavior'!J83,""),"") | J35: =IF($J$12<>"Please select in data input sheet",IF(C35="x","-",""),"") | K35: =IF($J$12<>"Please select in data input sheet",IF(C35="x",'eDevices_general+behavior'!J92,""),"") | L35: =IF($J$12<>"Please select in data input sheet",IF(C35="x",0,""),"") | M35: =IF($J$12<>"Please select in data input sheet",IF(C35="x",INDEX(Dropdowns!$B$2:$D$9,MATCH($G$11,Dropdowns!$A$2:$A$9,0),MATCH($B35,Dropdowns!$B$1:$D$1,0))*'eDevices_general+behavior'!J160,""),"") | N35: =IF($J$12<>"Please select in data input sheet",IF(C35="x",INDEX(Dropdowns!$B$2:$D$9,MATCH($G$11,Dropdowns!$A$2:$A$9,0),MATCH($B35,Dropdowns!$B$1:$D$1,0))*'eDevices_general+behavior'!J196*INDEX(Dropdowns!$C$34:$C$38,MATCH($J$12,Dropdowns!$A$34:$A$38,0)),""),"") | O35: =IF($J$12<>"Please select in data input sheet",IF(C35="x",INDEX(Dropdowns!$B$2:$D$9,MATCH($G$11,Dropdowns!$A$2:$A$9,0),MATCH($B35,Dropdowns!$B$1:$D$1,0))*'eDevices_general+behavior'!J232*INDEX(Dropdowns!$C$34:$C$38,MATCH($J$12,Dropdowns!$A$34:$A$38,0)),""),"") | P35: =IF($J$12<>"Please select in data input sheet",IF(C35="x",INDEX(Dropdowns!$B$2:$D$9,MATCH($G$11,Dropdowns!$A$2:$A$9,0),MATCH($B35,Dropdowns!$B$1:$D$1,0))*'eDevices_general+behavior'!J151,""),"") | Q35: =IF($J$12<>"Please select in data input sheet",IF(C35="x",INDEX(Dropdowns!$B$2:$D$9,MATCH($G$11,Dropdowns!$A$2:$A$9,0),MATCH($B35,Dropdowns!$B$1:$D$1,0))*'eDevices_general+behavior'!J178,""),"") | R35: =IF($J$12<>"Please select in data input sheet",IF(C35="x",INDEX(Dropdowns!$B$2:$D$9,MATCH($G$11,Dropdowns!$A$2:$A$9,0),MATCH($B35,Dropdowns!$B$1:$D$1,0))*'eDevices_general+behavior'!J214,""),"")
B36: N | D36: Washing machine - Washing without prewash | I36: =IF($J$12<>"Please select in data input sheet",IF(C36="x",'eDevices_general+behavior'!J84,""),"") | J36: =IF($J$12<>"Please select in data input sheet",IF(C36="x","-",""),"") | K36: =IF($J$12<>"Please select in data input sheet",IF(C36="x",'eDevices_general+behavior'!J93,""),"") | L36: =IF($J$12<>"Please select in data input sheet",IF(C36="x",0,""),"") | M36: =IF($J$12<>"Please select in data input sheet",IF(C36="x",INDEX(Dropdowns!$B$2:$D$9,MATCH($G$11,Dropdowns!$A$2:$A$9,0),MATCH($B36,Dropdowns!$B$1:$D$1,0))*'eDevices_general+behavior'!J161,""),"") | N36: =IF($J$12<>"Please select in data input sheet",IF(C36="x",INDEX(Dropdowns!$B$2:$D$9,MATCH($G$11,Dropdowns!$A$2:$A$9,0),MATCH($B36,Dropdowns!$B$1:$D$1,0))*'eDevices_general+behavior'!J197*INDEX(Dropdowns!$C$34:$C$38,MATCH($J$12,Dropdowns!$A$34:$A$38,0)),""),"") | O36: =IF($J$12<>"Please select in data input sheet",IF(C36="x",INDEX(Dropdowns!$B$2:$D$9,MATCH($G$11,Dropdowns!$A$2:$A$9,0),MATCH($B36,Dropdowns!$B$1:$D$1,0))*'eDevices_general+behavior'!J233*INDEX(Dropdowns!$C$34:$C$38,MATCH($J$12,Dropdowns!$A$34:$A$38,0)),""),"") | P36: =IF($J$12<>"Please select in data input sheet",IF(C36="x",INDEX(Dropdowns!$B$2:$D$9,MATCH($G$11,Dropdowns!$A$2:$A$9,0),MATCH($B36,Dropdowns!$B$1:$D$1,0))*'eDevices_general+behavior'!J152,""),"") | Q36: =IF($J$12<>"Please select in data input sheet",IF(C36="x",INDEX(Dropdowns!$B$2:$D$9,MATCH($G$11,Dropdowns!$A$2:$A$9,0),MATCH($B36,Dropdowns!$B$1:$D$1,0))*'eDevices_general+behavior'!J179,""),"") | R36: =IF($J$12<>"Please select in data input sheet",IF(C36="x",INDEX(Dropdowns!$B$2:$D$9,MATCH($G$11,Dropdowns!$A$2:$A$9,0),MATCH($B36,Dropdowns!$B$1:$D$1,0))*'eDevices_general+behavior'!J215,""),"")
B37: N | D37: Washing machine - Use eco programs for washing machine | I37: =IF($J$12<>"Please select in data input sheet",IF(C37="x",'eDevices_general+behavior'!J85,""),"") | J37: =IF($J$12<>"Please select in data input sheet",IF(C37="x","-",""),"") | K37: =IF($J$12<>"Please select in data input sheet",IF(C37="x",'eDevices_general+behavior'!J94,""),"") | L37: =IF($J$12<>"Please select in data input sheet",IF(C37="x",0,""),"") | M37: =IF($J$12<>"Please select in data input sheet",IF(C37="x",INDEX(Dropdowns!$B$2:$D$9,MATCH($G$11,Dropdowns!$A$2:$A$9,0),MATCH($B37,Dropdowns!$B$1:$D$1,0))*'eDevices_general+behavior'!J162,""),"") | N37: =IF($J$12<>"Please select in data input sheet",IF(C37="x",INDEX(Dropdowns!$B$2:$D$9,MATCH($G$11,Dropdowns!$A$2:$A$9,0),MATCH($B37,Dropdowns!$B$1:$D$1,0))*'eDevices_general+behavior'!J198*INDEX(Dropdowns!$C$34:$C$38,MATCH($J$12,Dropdowns!$A$34:$A$38,0)),""),"") | O37: =IF($J$12<>"Please select in data input sheet",IF(C37="x",INDEX(Dropdowns!$B$2:$D$9,MATCH($G$11,Dropdowns!$A$2:$A$9,0),MATCH($B37,Dropdowns!$B$1:$D$1,0))*'eDevices_general+behavior'!J234*INDEX(Dropdowns!$C$34:$C$38,MATCH($J$12,Dropdowns!$A$34:$A$38,0)),""),"") | P37: =IF($J$12<>"Please select in data input sheet",IF(C37="x",INDEX(Dropdowns!$B$2:$D$9,MATCH($G$11,Dropdowns!$A$2:$A$9,0),MATCH($B37,Dropdowns!$B$1:$D$1,0))*'eDevices_general+behavior'!J153,""),"") | Q37: =IF($J$12<>"Please select in data input sheet",IF(C37="x",INDEX(Dropdowns!$B$2:$D$9,MATCH($G$11,Dropdowns!$A$2:$A$9,0),MATCH($B37,Dropdowns!$B$1:$D$1,0))*'eDevices_general+behavior'!J180,""),"") | R37: =IF($J$12<>"Please select in data input sheet",IF(C37="x",INDEX(Dropdowns!$B$2:$D$9,MATCH($G$11,Dropdowns!$A$2:$A$9,0),MATCH($B37,Dropdowns!$B$1:$D$1,0))*'eDevices_general+behavior'!J216,""),"")
B38: N | D38: Washing machine - Using detergents allowing to wash laundry at 30 degrees | I38: =IF($J$12<>"Please select in data input sheet",IF(C38="x",'eDevices_general+behavior'!J86,""),"") | J38: =IF($J$12<>"Please select in data input sheet",IF(C38="x","-",""),"") | K38: =IF($J$12<>"Please select in data input sheet",IF(C38="x",'eDevices_general+behavior'!J95,""),"") | L38: =IF($J$12<>"Please select in data input sheet",IF(C38="x",0,""),"") | M38: =IF($J$12<>"Please select in data input sheet",IF(C38="x",INDEX(Dropdowns!$B$2:$D$9,MATCH($G$11,Dropdowns!$A$2:$A$9,0),MATCH($B38,Dropdowns!$B$1:$D$1,0))*'eDevices_general+behavior'!J163,""),"") | N38: =IF($J$12<>"Please select in data input sheet",IF(C38="x",INDEX(Dropdowns!$B$2:$D$9,MATCH($G$11,Dropdowns!$A$2:$A$9,0),MATCH($B38,Dropdowns!$B$1:$D$1,0))*'eDevices_general+behavior'!J199*INDEX(Dropdowns!$C$34:$C$38,MATCH($J$12,Dropdowns!$A$34:$A$38,0)),""),"") | O38: =IF($J$12<>"Please select in data input sheet",IF(C38="x",INDEX(Dropdowns!$B$2:$D$9,MATCH($G$11,Dropdowns!$A$2:$A$9,0),MATCH($B38,Dropdowns!$B$1:$D$1,0))*'eDevices_general+behavior'!J235*INDEX(Dropdowns!$C$34:$C$38,MATCH($J$12,Dropdowns!$A$34:$A$38,0)),""),"") | P38: =IF($J$12<>"Please select in data input sheet",IF(C38="x",INDEX(Dropdowns!$B$2:$D$9,MATCH($G$11,Dropdowns!$A$2:$A$9,0),MATCH($B38,Dropdowns!$B$1:$D$1,0))*'eDevices_general+behavior'!J154,""),"") | Q38: =IF($J$12<>"Please select in data input sheet",IF(C38="x",INDEX(Dropdowns!$B$2:$D$9,MATCH($G$11,Dropdowns!$A$2:$A$9,0),MATCH($B38,Dropdowns!$B$1:$D$1,0))*'eDevices_general+behavior'!J181,""),"") | R38: =IF($J$12<>"Please select in data input sheet",IF(C38="x",INDEX(Dropdowns!$B$2:$D$9,MATCH($G$11,Dropdowns!$A$2:$A$9,0),MATCH($B38,Dropdowns!$B$1:$D$1,0))*'eDevices_general+behavior'!J217,""),"")
B39: N | D39: Tumble dryer - Leave laundry to dry on a clothes horse | I39: =IF($J$12<>"Please select in data input sheet",IF(C39="x",'eDevices_general+behavior'!J87,""),"") | J39: =IF($J$12<>"Please select in data input sheet",IF(C39="x","-",""),"") | K39: =IF($J$12<>"Please select in data input sheet",IF(C39="x",'eDevices_general+behavior'!J96,""),"") | L39: =IF($J$12<>"Please select in data input sheet",IF(C39="x",0,""),"") | M39: =IF($J$12<>"Please select in data input sheet",IF(C39="x",INDEX(Dropdowns!$B$2:$D$9,MATCH($G$11,Dropdowns!$A$2:$A$9,0),MATCH($B39,Dropdowns!$B$1:$D$1,0))*'eDevices_general+behavior'!J164,""),"") | N39: =IF($J$12<>"Please select in data input sheet",IF(C39="x",INDEX(Dropdowns!$B$2:$D$9,MATCH($G$11,Dropdowns!$A$2:$A$9,0),MATCH($B39,Dropdowns!$B$1:$D$1,0))*'eDevices_general+behavior'!J200*INDEX(Dropdowns!$C$34:$C$38,MATCH($J$12,Dropdowns!$A$34:$A$38,0)),""),"") | O39: =IF($J$12<>"Please select in data input sheet",IF(C39="x",INDEX(Dropdowns!$B$2:$D$9,MATCH($G$11,Dropdowns!$A$2:$A$9,0),MATCH($B39,Dropdowns!$B$1:$D$1,0))*'eDevices_general+behavior'!J236*INDEX(Dropdowns!$C$34:$C$38,MATCH($J$12,Dropdowns!$A$34:$A$38,0)),""),"") | P39: =IF($J$12<>"Please select in data input sheet",IF(C39="x",INDEX(Dropdowns!$B$2:$D$9,MATCH($G$11,Dropdowns!$A$2:$A$9,0),MATCH($B39,Dropdowns!$B$1:$D$1,0))*'eDevices_general+behavior'!J155,""),"") | Q39: =IF($J$12<>"Please select in data input sheet",IF(C39="x",INDEX(Dropdowns!$B$2:$D$9,MATCH($G$11,Dropdowns!$A$2:$A$9,0),MATCH($B39,Dropdowns!$B$1:$D$1,0))*'eDevices_general+behavior'!J182,""),"") | R39: =IF($J$12<>"Please select in data input sheet",IF(C39="x",INDEX(Dropdowns!$B$2:$D$9,MATCH($G$11,Dropdowns!$A$2:$A$9,0),MATCH($B39,Dropdowns!$B$1:$D$1,0))*'eDevices_general+behavior'!J218,""),"")
B40: N | D40: Use eco programs for dish washer | I40: =IF($J$12<>"Please select in data input sheet",IF(C40="x",'eDevices_general+behavior'!J88,""),"") | J40: =IF($J$12<>"Please select in data input sheet",IF(C40="x","-",""),"") | K40: =IF($J$12<>"Please select in data input sheet",IF(C40="x",'eDevices_general+behavior'!J97,""),"") | L40: =IF($J$12<>"Please select in data input sheet",IF(C40="x",0,""),"") | M40: =IF($J$12<>"Please select in data input sheet",IF(C40="x",INDEX(Dropdowns!$B$2:$D$9,MATCH($G$11,Dropdowns!$A$2:$A$9,0),MATCH($B40,Dropdowns!$B$1:$D$1,0))*'eDevices_general+behavior'!J165,""),"") | N40: =IF($J$12<>"Please select in data input sheet",IF(C40="x",INDEX(Dropdowns!$B$2:$D$9,MATCH($G$11,Dropdowns!$A$2:$A$9,0),MATCH($B40,Dropdowns!$B$1:$D$1,0))*'eDevices_general+behavior'!J201*INDEX(Dropdowns!$C$34:$C$38,MATCH($J$12,Dropdowns!$A$34:$A$38,0)),""),"") | O40: =IF($J$12<>"Please select in data input sheet",IF(C40="x",INDEX(Dropdowns!$B$2:$D$9,MATCH($G$11,Dropdowns!$A$2:$A$9,0),MATCH($B40,Dropdowns!$B$1:$D$1,0))*'eDevices_general+behavior'!J237*INDEX(Dropdowns!$C$34:$C$38,MATCH($J$12,Dropdowns!$A$34:$A$38,0)),""),"") | P40: =IF($J$12<>"Please select in data input sheet",IF(C40="x",INDEX(Dropdowns!$B$2:$D$9,MATCH($G$11,Dropdowns!$A$2:$A$9,0),MATCH($B40,Dropdowns!$B$1:$D$1,0))*'eDevices_general+behavior'!J156,""),"") | Q40: =IF($J$12<>"Please select in data input sheet",IF(C40="x",INDEX(Dropdowns!$B$2:$D$9,MATCH($G$11,Dropdowns!$A$2:$A$9,0),MATCH($B40,Dropdowns!$B$1:$D$1,0))*'eDevices_general+behavior'!J183,""),"") | R40: =IF($J$12<>"Please select in data input sheet",IF(C40="x",INDEX(Dropdowns!$B$2:$D$9,MATCH($G$11,Dropdowns!$A$2:$A$9,0),MATCH($B40,Dropdowns!$B$1:$D$1,0))*'eDevices_general+behavior'!J219,""),"")
B41: N | D41: Turning off devices with standby electricity consumption | I41: =IF($J$12<>"Please select in data input sheet",IF(C41="x",'eDevices_general+behavior'!J89,""),"") | J41: =IF($J$12<>"Please select in data input sheet",IF(C41="x","-",""),"") | K41: =IF($J$12<>"Please select in data input sheet",IF(C41="x",'eDevices_general+behavior'!J98,""),"") | L41: =IF($J$12<>"Please select in data input sheet",IF(C41="x",0,""),"") | M41: =IF($J$12<>"Please select in data input sheet",IF(C41="x",INDEX(Dropdowns!$B$2:$D$9,MATCH($G$11,Dropdowns!$A$2:$A$9,0),MATCH($B41,Dropdowns!$B$1:$D$1,0))*'eDevices_general+behavior'!J166,""),"") | N41: =IF($J$12<>"Please select in data input sheet",IF(C41="x",INDEX(Dropdowns!$B$2:$D$9,MATCH($G$11,Dropdowns!$A$2:$A$9,0),MATCH($B41,Dropdowns!$B$1:$D$1,0))*'eDevices_general+behavior'!J202*INDEX(Dropdowns!$C$34:$C$38,MATCH($J$12,Dropdowns!$A$34:$A$38,0)),""),"") | O41: =IF($J$12<>"Please select in data input sheet",IF(C41="x",INDEX(Dropdowns!$B$2:$D$9,MATCH($G$11,Dropdowns!$A$2:$A$9,0),MATCH($B41,Dropdowns!$B$1:$D$1,0))*'eDevices_general+behavior'!J238*INDEX(Dropdowns!$C$34:$C$38,MATCH($J$12,Dropdowns!$A$34:$A$38,0)),""),"") | P41: =IF($J$12<>"Please select in data input sheet",IF(C41="x",INDEX(Dropdowns!$B$2:$D$9,MATCH($G$11,Dropdowns!$A$2:$A$9,0),MATCH($B41,Dropdowns!$B$1:$D$1,0))*'eDevices_general+behavior'!J157,""),"") | Q41: =IF($J$12<>"Please select in data input sheet",IF(C41="x",INDEX(Dropdowns!$B$2:$D$9,MATCH($G$11,Dropdowns!$A$2:$A$9,0),MATCH($B41,Dropdowns!$B$1:$D$1,0))*'eDevices_general+behavior'!J184,""),"") | R41: =IF($J$12<>"Please select in data input sheet",IF(C41="x",INDEX(Dropdowns!$B$2:$D$9,MATCH($G$11,Dropdowns!$A$2:$A$9,0),MATCH($B41,Dropdowns!$B$1:$D$1,0))*'eDevices_general+behavior'!J220,""),"")
B42: L | D42: Use LEDs (partly with motion sensors) | I42: =IF($J$12<>"Please select in data input sheet",IF(C42="x",eDevices_small_invest!K14,""),"") | J42: =IF($J$12<>"Please select in data input sheet",IF(C42="x","unrefurbished: "&eDevices_small_invest!O94&", refurbished: "&eDevices_small_invest!P94,""),"") | K42: =IF($J$12<>"Please select in data input sheet",IF(C42="x",eDevices_small_invest!K80,""),"") | L42: =IF($J$12<>"Please select in data input sheet",IF(C42="x",INDEX(Dropdowns!$B$2:$D$9,MATCH($G$11,Dropdowns!$A$2:$A$9,0),MATCH($B42,Dropdowns!$B$1:$D$1,0))*eDevices_small_invest!J129*INDEX(Dropdowns!$C$34:$C$38,MATCH($J$12,Dropdowns!$A$34:$A$38,0)),""),"") | M42: =IF($J$12<>"Please select in data input sheet",IF(C42="x",INDEX(Dropdowns!$B$2:$D$9,MATCH($G$11,Dropdowns!$A$2:$A$9,0),MATCH($B42,Dropdowns!$B$1:$D$1,0))*eDevices_small_invest!J139,""),"") | N42: =IF($J$12<>"Please select in data input sheet",IF(C42="x",INDEX(Dropdowns!$B$2:$D$9,MATCH($G$11,Dropdowns!$A$2:$A$9,0),MATCH($B42,Dropdowns!$B$1:$D$1,0))*eDevices_small_invest!J159*INDEX(Dropdowns!$C$34:$C$38,MATCH($J$12,Dropdowns!$A$34:$A$38,0)),""),"") | O42: =IF($J$12<>"Please select in data input sheet",IF(C42="x",INDEX(Dropdowns!$B$2:$D$9,MATCH($G$11,Dropdowns!$A$2:$A$9,0),MATCH($B42,Dropdowns!$B$1:$D$1,0))*eDevices_small_invest!J179*INDEX(Dropdowns!$C$34:$C$38,MATCH($J$12,Dropdowns!$A$34:$A$38,0)),""),"") | P42: =IF($J$12<>"Please select in data input sheet",IF(C42="x",INDEX(Dropdowns!$B$2:$D$9,MATCH($G$11,Dropdowns!$A$2:$A$9,0),MATCH($B42,Dropdowns!$B$1:$D$1,0))*eDevices_small_invest!J134,""),"") | Q42: =IF($J$12<>"Please select in data input sheet",IF(C42="x",INDEX(Dropdowns!$B$2:$D$9,MATCH($G$11,Dropdowns!$A$2:$A$9,0),MATCH($B42,Dropdowns!$B$1:$D$1,0))*eDevices_small_invest!J149,""),"") | R42: =IF($J$12<>"Please select in data input sheet",IF(C42="x",INDEX(Dropdowns!$B$2:$D$9,MATCH($G$11,Dropdowns!$A$2:$A$9,0),MATCH($B42,Dropdowns!$B$1:$D$1,0))*eDevices_small_invest!J169,""),"")
B43: L | D43: Use switchable sockets to avoid stand-by | I43: =IF($J$12<>"Please select in data input sheet",IF(C43="x",eDevices_small_invest!K15,""),"") | J43: =IF($J$12<>"Please select in data input sheet",IF(C43="x","unrefurbished: "&eDevices_small_invest!O95&", refurbished: "&eDevices_small_invest!P95,""),"") | K43: =IF($J$12<>"Please select in data input sheet",IF(C43="x",eDevices_small_invest!K81,""),"") | L43: =IF($J$12<>"Please select in data input sheet",IF(C43="x",INDEX(Dropdowns!$B$2:$D$9,MATCH($G$11,Dropdowns!$A$2:$A$9,0),MATCH($B43,Dropdowns!$B$1:$D$1,0))*eDevices_small_invest!J130*INDEX(Dropdowns!$C$34:$C$38,MATCH($J$12,Dropdowns!$A$34:$A$38,0)),""),"") | M43: =IF($J$12<>"Please select in data input sheet",IF(C43="x",INDEX(Dropdowns!$B$2:$D$9,MATCH($G$11,Dropdowns!$A$2:$A$9,0),MATCH($B43,Dropdowns!$B$1:$D$1,0))*eDevices_small_invest!J140,""),"") | N43: =IF($J$12<>"Please select in data input sheet",IF(C43="x",INDEX(Dropdowns!$B$2:$D$9,MATCH($G$11,Dropdowns!$A$2:$A$9,0),MATCH($B43,Dropdowns!$B$1:$D$1,0))*eDevices_small_invest!J160*INDEX(Dropdowns!$C$34:$C$38,MATCH($J$12,Dropdowns!$A$34:$A$38,0)),""),"") | O43: =IF($J$12<>"Please select in data input sheet",IF(C43="x",INDEX(Dropdowns!$B$2:$D$9,MATCH($G$11,Dropdowns!$A$2:$A$9,0),MATCH($B43,Dropdowns!$B$1:$D$1,0))*eDevices_small_invest!J180*INDEX(Dropdowns!$C$34:$C$38,MATCH($J$12,Dropdowns!$A$34:$A$38,0)),""),"") | P43: =IF($J$12<>"Please select in data input sheet",IF(C43="x",INDEX(Dropdowns!$B$2:$D$9,MATCH($G$11,Dropdowns!$A$2:$A$9,0),MATCH($B43,Dropdowns!$B$1:$D$1,0))*eDevices_small_invest!J135,""),"") | Q43: =IF($J$12<>"Please select in data input sheet",IF(C43="x",INDEX(Dropdowns!$B$2:$D$9,MATCH($G$11,Dropdowns!$A$2:$A$9,0),MATCH($B43,Dropdowns!$B$1:$D$1,0))*eDevices_small_invest!J150,""),"") | R43: =IF($J$12<>"Please select in data input sheet",IF(C43="x",INDEX(Dropdowns!$B$2:$D$9,MATCH($G$11,Dropdowns!$A$2:$A$9,0),MATCH($B43,Dropdowns!$B$1:$D$1,0))*eDevices_small_invest!J170,""),"")
B44: L | D44: Using stand fans for reducing air conditioning operation | I44: =IF($J$12<>"Please select in data input sheet",IF(C44="x",eDevices_small_invest!K16,""),"") | J44: =IF($J$12<>"Please select in data input sheet",IF(C44="x","unrefurbished: "&eDevices_small_invest!O96&", refurbished: "&eDevices_small_invest!P96,""),"") | K44: =IF($J$12<>"Please select in data input sheet",IF(C44="x",eDevices_small_invest!K82,""),"") | L44: =IF($J$12<>"Please select in data input sheet",IF(C44="x",INDEX(Dropdowns!$B$2:$D$9,MATCH($G$11,Dropdowns!$A$2:$A$9,0),MATCH($B44,Dropdowns!$B$1:$D$1,0))*eDevices_small_invest!J131*INDEX(Dropdowns!$C$34:$C$38,MATCH($J$12,Dropdowns!$A$34:$A$38,0)),""),"") | M44: =IF($J$12<>"Please select in data input sheet",IF(C44="x",INDEX(Dropdowns!$B$2:$D$9,MATCH($G$11,Dropdowns!$A$2:$A$9,0),MATCH($B44,Dropdowns!$B$1:$D$1,0))*eDevices_small_invest!J141,""),"") | N44: =IF($J$12<>"Please select in data input sheet",IF(C44="x",INDEX(Dropdowns!$B$2:$D$9,MATCH($G$11,Dropdowns!$A$2:$A$9,0),MATCH($B44,Dropdowns!$B$1:$D$1,0))*eDevices_small_invest!J161*INDEX(Dropdowns!$C$34:$C$38,MATCH($J$12,Dropdowns!$A$34:$A$38,0)),""),"") | O44: =IF($J$12<>"Please select in data input sheet",IF(C44="x",INDEX(Dropdowns!$B$2:$D$9,MATCH($G$11,Dropdowns!$A$2:$A$9,0),MATCH($B44,Dropdowns!$B$1:$D$1,0))*eDevices_small_invest!J181*INDEX(Dropdowns!$C$34:$C$38,MATCH($J$12,Dropdowns!$A$34:$A$38,0)),""),"") | P44: =IF($J$12<>"Please select in data input sheet",IF(C44="x",INDEX(Dropdowns!$B$2:$D$9,MATCH($G$11,Dropdowns!$A$2:$A$9,0),MATCH($B44,Dropdowns!$B$1:$D$1,0))*eDevices_small_invest!J136,""),"") | Q44: =IF($J$12<>"Please select in data input sheet",IF(C44="x",INDEX(Dropdowns!$B$2:$D$9,MATCH($G$11,Dropdowns!$A$2:$A$9,0),MATCH($B44,Dropdowns!$B$1:$D$1,0))*eDevices_small_invest!J151,""),"") | R44: =IF($J$12<>"Please select in data input sheet",IF(C44="x",INDEX(Dropdowns!$B$2:$D$9,MATCH($G$11,Dropdowns!$A$2:$A$9,0),MATCH($B44,Dropdowns!$B$1:$D$1,0))*eDevices_small_invest!J171,""),"")
B45: I | D45: Replacing old circulation pumps for domestic hot water transport | I45: =IF($J$12<>"Please select in data input sheet",IF(C45="x",eDevices_high_invest!K17,""),"") | J45: =IF($J$12<>"Please select in data input sheet",IF(C45="x","unrefurbished: "&eDevices_high_invest!O135&", refurbished: "&eDevices_high_invest!P135,""),"") | K45: =IF($J$12<>"Please select in data input sheet",IF(C45="x",eDevices_high_invest!K115,""),"") | L45: =IF($J$12<>"Please select in data input sheet",IF(C45="x",INDEX(Dropdowns!$B$2:$D$9,MATCH($G$11,Dropdowns!$A$2:$A$9,0),MATCH($B45,Dropdowns!$B$1:$D$1,0))*eDevices_high_invest!J188*INDEX(Dropdowns!$C$34:$C$38,MATCH($J$12,Dropdowns!$A$34:$A$38,0)),""),"") | M45: =IF($J$12<>"Please select in data input sheet",IF(C45="x",INDEX(Dropdowns!$B$2:$D$9,MATCH($G$11,Dropdowns!$A$2:$A$9,0),MATCH($B45,Dropdowns!$B$1:$D$1,0))*eDevices_high_invest!J204,""),"") | N45: =IF($J$12<>"Please select in data input sheet",IF(C45="x",INDEX(Dropdowns!$B$2:$D$9,MATCH($G$11,Dropdowns!$A$2:$A$9,0),MATCH($B45,Dropdowns!$B$1:$D$1,0))*eDevices_high_invest!J236*INDEX(Dropdowns!$C$34:$C$38,MATCH($J$12,Dropdowns!$A$34:$A$38,0)),""),"") | O45: =IF($J$12<>"Please select in data input sheet",IF(C45="x",INDEX(Dropdowns!$B$2:$D$9,MATCH($G$11,Dropdowns!$A$2:$A$9,0),MATCH($B45,Dropdowns!$B$1:$D$1,0))*eDevices_high_invest!J268*INDEX(Dropdowns!$C$34:$C$38,MATCH($J$12,Dropdowns!$A$34:$A$38,0)),""),"") | P45: =IF($J$12<>"Please select in data input sheet",IF(C45="x",INDEX(Dropdowns!$B$2:$D$9,MATCH($G$11,Dropdowns!$A$2:$A$9,0),MATCH($B45,Dropdowns!$B$1:$D$1,0))*eDevices_high_invest!J196,""),"") | Q45: =IF($J$12<>"Please select in data input sheet",IF(C45="x",INDEX(Dropdowns!$B$2:$D$9,MATCH($G$11,Dropdowns!$A$2:$A$9,0),MATCH($B45,Dropdowns!$B$1:$D$1,0))*eDevices_high_invest!J220,""),"") | R45: =IF($J$12<>"Please select in data input sheet",IF(C45="x",INDEX(Dropdowns!$B$2:$D$9,MATCH($G$11,Dropdowns!$A$2:$A$9,0),MATCH($B45,Dropdowns!$B$1:$D$1,0))*eDevices_high_invest!J252,""),"")
B46: I | D46: Replacing old circulation pumps for space heat water transport | I46: =IF($J$12<>"Please select in data input sheet",IF(C46="x",eDevices_high_invest!K18,""),"") | J46: =IF($J$12<>"Please select in data input sheet",IF(C46="x","unrefurbished: "&eDevices_high_invest!O136&", refurbished: "&eDevices_high_invest!P136,""),"") | K46: =IF($J$12<>"Please select in data input sheet",IF(C46="x",eDevices_high_invest!K116,""),"") | L46: =IF($J$12<>"Please select in data input sheet",IF(C46="x",INDEX(Dropdowns!$B$2:$D$9,MATCH($G$11,Dropdowns!$A$2:$A$9,0),MATCH($B46,Dropdowns!$B$1:$D$1,0))*eDevices_high_invest!J189*INDEX(Dropdowns!$C$34:$C$38,MATCH($J$12,Dropdowns!$A$34:$A$38,0)),""),"") | M46: =IF($J$12<>"Please select in data input sheet",IF(C46="x",INDEX(Dropdowns!$B$2:$D$9,MATCH($G$11,Dropdowns!$A$2:$A$9,0),MATCH($B46,Dropdowns!$B$1:$D$1,0))*eDevices_high_invest!J205,""),"") | N46: =IF($J$12<>"Please select in data input sheet",IF(C46="x",INDEX(Dropdowns!$B$2:$D$9,MATCH($G$11,Dropdowns!$A$2:$A$9,0),MATCH($B46,Dropdowns!$B$1:$D$1,0))*eDevices_high_invest!J237*INDEX(Dropdowns!$C$34:$C$38,MATCH($J$12,Dropdowns!$A$34:$A$38,0)),""),"") | O46: =IF($J$12<>"Please select in data input sheet",IF(C46="x",INDEX(Dropdowns!$B$2:$D$9,MATCH($G$11,Dropdowns!$A$2:$A$9,0),MATCH($B46,Dropdowns!$B$1:$D$1,0))*eDevices_high_invest!J269*INDEX(Dropdowns!$C$34:$C$38,MATCH($J$12,Dropdowns!$A$34:$A$38,0)),""),"") | P46: =IF($J$12<>"Please select in data input sheet",IF(C46="x",INDEX(Dropdowns!$B$2:$D$9,MATCH($G$11,Dropdowns!$A$2:$A$9,0),MATCH($B46,Dropdowns!$B$1:$D$1,0))*eDevices_high_invest!J197,""),"") | Q46: =IF($J$12<>"Please select in data input sheet",IF(C46="x",INDEX(Dropdowns!$B$2:$D$9,MATCH($G$11,Dropdowns!$A$2:$A$9,0),MATCH($B46,Dropdowns!$B$1:$D$1,0))*eDevices_high_invest!J221,""),"") | R46: =IF($J$12<>"Please select in data input sheet",IF(C46="x",INDEX(Dropdowns!$B$2:$D$9,MATCH($G$11,Dropdowns!$A$2:$A$9,0),MATCH($B46,Dropdowns!$B$1:$D$1,0))*eDevices_high_invest!J253,""),"")
B47: I | D47: Replacing inefficient electricity devices (refrigerator) | I47: =IF($J$12<>"Please select in data input sheet",IF(C47="x",eDevices_high_invest!K19,""),"") | J47: =IF($J$12<>"Please select in data input sheet",IF(C47="x","unrefurbished: "&eDevices_high_invest!O137&", refurbished: "&eDevices_high_invest!P137,""),"") | K47: =IF($J$12<>"Please select in data input sheet",IF(C47="x",eDevices_high_invest!K117,""),"") | L47: =IF($J$12<>"Please select in data input sheet",IF(C47="x",INDEX(Dropdowns!$B$2:$D$9,MATCH($G$11,Dropdowns!$A$2:$A$9,0),MATCH($B47,Dropdowns!$B$1:$D$1,0))*eDevices_high_invest!J190*INDEX(Dropdowns!$C$34:$C$38,MATCH($J$12,Dropdowns!$A$34:$A$38,0)),""),"") | M47: =IF($J$12<>"Please select in data input sheet",IF(C47="x",INDEX(Dropdowns!$B$2:$D$9,MATCH($G$11,Dropdowns!$A$2:$A$9,0),MATCH($B47,Dropdowns!$B$1:$D$1,0))*eDevices_high_invest!J206,""),"") | N47: =IF($J$12<>"Please select in data input sheet",IF(C47="x",INDEX(Dropdowns!$B$2:$D$9,MATCH($G$11,Dropdowns!$A$2:$A$9,0),MATCH($B47,Dropdowns!$B$1:$D$1,0))*eDevices_high_invest!J238*INDEX(Dropdowns!$C$34:$C$38,MATCH($J$12,Dropdowns!$A$34:$A$38,0)),""),"") | O47: =IF($J$12<>"Please select in data input sheet",IF(C47="x",INDEX(Dropdowns!$B$2:$D$9,MATCH($G$11,Dropdowns!$A$2:$A$9,0),MATCH($B47,Dropdowns!$B$1:$D$1,0))*eDevices_high_invest!J270*INDEX(Dropdowns!$C$34:$C$38,MATCH($J$12,Dropdowns!$A$34:$A$38,0)),""),"") | P47: =IF($J$12<>"Please select in data input sheet",IF(C47="x",INDEX(Dropdowns!$B$2:$D$9,MATCH($G$11,Dropdowns!$A$2:$A$9,0),MATCH($B47,Dropdowns!$B$1:$D$1,0))*eDevices_high_invest!J198,""),"") | Q47: =IF($J$12<>"Please select in data input sheet",IF(C47="x",INDEX(Dropdowns!$B$2:$D$9,MATCH($G$11,Dropdowns!$A$2:$A$9,0),MATCH($B47,Dropdowns!$B$1:$D$1,0))*eDevices_high_invest!J222,""),"") | R47: =IF($J$12<>"Please select in data input sheet",IF(C47="x",INDEX(Dropdowns!$B$2:$D$9,MATCH($G$11,Dropdowns!$A$2:$A$9,0),MATCH($B47,Dropdowns!$B$1:$D$1,0))*eDevices_high_invest!J254,""),"")
B48: I | D48: Replacing inefficient electricity devices (freezer) | I48: =IF($J$12<>"Please select in data input sheet",IF(C48="x",eDevices_high_invest!K20,""),"") | J48: =IF($J$12<>"Please select in data input sheet",IF(C48="x","unrefurbished: "&eDevices_high_invest!O138&", refurbished: "&eDevices_high_invest!P138,""),"") | K48: =IF($J$12<>"Please select in data input sheet",IF(C48="x",eDevices_high_invest!K118,""),"") | L48: =IF($J$12<>"Please select in data input sheet",IF(C48="x",INDEX(Dropdowns!$B$2:$D$9,MATCH($G$11,Dropdowns!$A$2:$A$9,0),MATCH($B48,Dropdowns!$B$1:$D$1,0))*eDevices_high_invest!J191*INDEX(Dropdowns!$C$34:$C$38,MATCH($J$12,Dropdowns!$A$34:$A$38,0)),""),"") | M48: =IF($J$12<>"Please select in data input sheet",IF(C48="x",INDEX(Dropdowns!$B$2:$D$9,MATCH($G$11,Dropdowns!$A$2:$A$9,0),MATCH($B48,Dropdowns!$B$1:$D$1,0))*eDevices_high_invest!J207,""),"") | N48: =IF($J$12<>"Please select in data input sheet",IF(C48="x",INDEX(Dropdowns!$B$2:$D$9,MATCH($G$11,Dropdowns!$A$2:$A$9,0),MATCH($B48,Dropdowns!$B$1:$D$1,0))*eDevices_high_invest!J239*INDEX(Dropdowns!$C$34:$C$38,MATCH($J$12,Dropdowns!$A$34:$A$38,0)),""),"") | O48: =IF($J$12<>"Please select in data input sheet",IF(C48="x",INDEX(Dropdowns!$B$2:$D$9,MATCH($G$11,Dropdowns!$A$2:$A$9,0),MATCH($B48,Dropdowns!$B$1:$D$1,0))*eDevices_high_invest!J271*INDEX(Dropdowns!$C$34:$C$38,MATCH($J$12,Dropdowns!$A$34:$A$38,0)),""),"") | P48: =IF($J$12<>"Please select in data input sheet",IF(C48="x",INDEX(Dropdowns!$B$2:$D$9,MATCH($G$11,Dropdowns!$A$2:$A$9,0),MATCH($B48,Dropdowns!$B$1:$D$1,0))*eDevices_high_invest!J199,""),"") | Q48: =IF($J$12<>"Please select in data input sheet",IF(C48="x",INDEX(Dropdowns!$B$2:$D$9,MATCH($G$11,Dropdowns!$A$2:$A$9,0),MATCH($B48,Dropdowns!$B$1:$D$1,0))*eDevices_high_invest!J223,""),"") | R48: =IF($J$12<>"Please select in data input sheet",IF(C48="x",INDEX(Dropdowns!$B$2:$D$9,MATCH($G$11,Dropdowns!$A$2:$A$9,0),MATCH($B48,Dropdowns!$B$1:$D$1,0))*eDevices_high_invest!J255,""),"")
...

Sheet Dropdowns
A1: Campaign type | B1: N | C1: L | D1: I
A2: - select campaign type - | B2: 0 | C2: 0 | D2: 0
A3: Workshop | B3: 0.32 | C3: 0.29 | D3: 0.05
A4: Energy consultation | B4: 0.32 | C4: 0.29 | D4: 0.04 | F4: tvb media comparisons study 2021
A5: Other events | B5: =D5*$B$11 -> 0.0248 | C5: =D5*$C$11 -> 0.022475 | D5: =F5 -> 0.0031 | F5: 0.0031 | G5: Online
A6: Article / newspaper page | B6: =D6*$B$11 -> 0.0464 | C6: =D6*$C$11 -> 0.04205 | D6: =F6 -> 0.0058 | F6: 0.0058 | G6: print allgemein
A7: Website tipps / online campaign / Social Media | B7: =D7*$B$11 -> 0.0248 | C7: =D7*$C$11 -> 0.022475 | D7: =F7 -> 0.0031 | F7: 0.0031 | G7: Online
A8: Promotion material | B8: =D8*$B$11 -> 0.0328 | C8: =D8*$C$11 -> 0.029725 | D8: =F8 -> 0.0041 | F8: 0.0041 | G8: print speziell
A9: Open house day | B9: 0.32 | C9: 0.29 | D9: 0.04
B11: =B9/D9 -> 8 | C11: =C9/D9 -> 7.25
A13: Partner Countries | B13: GHG electricity (direct) | C13: GHG heat (direct)
A14: - select country - | B14: [g CO2e/kWh] | C14: [g CO2e/kWh]
A15: Germany | B15: 298 | C15: 250
A16: Lithuania | B16: 29 | C16: 101
A17: Austria | B17: 55 | C17: 120
A18: Portugal | B18: 72 | C18: 238
A19: Slovenia | B19: 172 | C19: 245
A21: Energy Prices
A22: Country | B22: Austria | C22: Germany | D22: Lithuania | E22: Portugal | F22: Slovenia | G22: Unit
A23: District heat (energy rate) | B23: 134 | C23: 120 | D23: 96 | E23: 130 | F23: 106 | G23: €/MWh
A24: Log wood | B24: 125 | C24: 120 | D24: 80 | E24: 100 | F24: 85 | G24: €/m³ stacked
A25: Biomass pellets | B25: 388 | C25: 377 | D25: 380 | E25: 380 | F25: 325 | G25: €/t
A26: Brown coal briquettes | B26: 615 | C26: 615 | D26: 615 | E26: 615 | F26: 615 | G26: €/t
A27: Liquefied Petroleum Gas (LPG) | B27: 126 | C27: 109 | D27: 78 | E27: 92 | F27: 96 | G27: €/100 l
A28: Fuel oil | B28: 132 | C28: 112 | D28: 113 | E28: 176 | F28: 120 | G28: €/100 l
A29: Natural gas | B29: 11.35 | C29: 11.31 | D29: 7.59 | E29: 11.32 | F29: 9.6 | G29: € Cent/kWh
A30: Electricity | B30: 29.3 | C30: 38.69 | D30: 22.63 | E30: 27.73 | F30: 24.2 | G30: € Cent/kWh
A32: Price level indices
B33: Price level index | C33: Investment cost factor
A34: Austria | B34: 113 | C34: =B34/$B$34 -> 1
A35: Germany | B35: 108.3 | C35: =B35/$B$34 -> 0.95840708
A36: Lithuania | B36: 82.8 | C36: =B36/$B$34 -> 0.73274336
A37: Portugal | B37: 86.6 | C37: =B37/$B$34 -> 0.76637168
A38: Slovenia | B38: 89.3 | C38: =B38/$B$34 -> 0.79026549

Sheet Model homes
C2: SaveEnergyTogether | D2: Cost Benefit Assessement Tool for assessing local and over-regional energy saving campaigns
B4: The purpose of this tool is to assess the effects of simple energy efficiency measures implemented in the residential housing sector through an energy-saving campaign.
B5: It will assess both the associated costs and benefits from the perspective of individual homeowners and institutional campaign implementers (Cost Benefit Assessment, or CBA).
B6: The CBA for individual homes is based on microeconomic principles (e.g. measure x pays off within y years) and shows individual environmental impacts.
B7: The campaign implementers' CBA includes campaign costs and wider macroeconomic, societal and environmental aspects (economic welfare).
B8: Implementing individual CBAs begins with defining four different residential home types that represent typical buildings in the campaign area.
C10: Main model homes' characteristics
B11: Help | C11: Parameter | D11: Unit | E11: Input Values | G11: Input Values | J11: Remark/Reference Value
C12: Building type | E12: Single family house | G12: Apartment house
C13: Thermal quality status of the building | E13: unrefurbished | F13: refurbished | G13: unrefurbished | H13: refurbished
B14: 1010 | C14: Gross floor area (GFA) | D14: m² | E14: ='Data Input'!B10 -> 140 | F14: ='Data Input'!C10 -> 140 | G14: ='Data Input'!D10 -> 750 | H14: ='Data Input'!E10 -> 750 | J14: GFA, incl. walls
B15: 1011 | C15: Heated gross floor area (GFA) | D15: m² | E15: =E14 -> 140 | F15: =F14 -> 140 | G15: =G14 -> 750 | H15: =H14 -> 750 | J15: GFA, incl. walls
B16: 1012 | C16: Heated floor space | D16: m² | E16: =E15*0.8 -> 112 | F16: =F15*0.8 -> 112 | G16: =G15*0.8 -> 600 | H16: =H15*0.8 -> 600 | J16: excl. wall thickness
B17: 1013 | C17: Number of storeys | D17: # | E17: 2 | F17: 2 | G17: 4 | H17: =G17 -> 4
B18: 1014 | C18: Room height, interior | D18: m | E18: 2.8 | F18: 2.8 | G18: 3 | H18: 3
B19: 1015 | C19: Interior volume of the building | D19: m³ | E19: =E16*E18 -> 313.6 | F19: =F16*F18 -> 313.6 | G19: =G16*G18 -> 1800 | H19: =H16*H18 -> 1800
B20: 1016 | C20: Floor/ceiling plan area, gross | D20: m² | E20: =E15/E17 -> 70 | F20: =F15/F17 -> 70 | G20: =G15/G17 -> 187.5 | H20: =H15/H17 -> 187.5
B21: 1017 | C21: Number of homes/apartments | D21: # | E21: 1 | F21: 1 | G21: 10 | H21: 10
B22: 1017 | C22: Number of homes/apartments with a uppermost ceiling | D22: # | E22: 1 | F22: 1 | G22: =ROUNDUP(G21/G17,) -> 3 | H22: =ROUNDUP(H21/H17,) -> 3
B23: 1018 | C23: Number of persons per home/apartment | D23: # | E23: 4 | F23: 4 | G23: 3 | H23: 3
